BEGIN:VCALENDAR
VERSION:2.0
PRODID:-//Squarespace Inc/Squarespace 6//v6//EN
BEGIN:VEVENT
UID:5e3b810dfe4a570a6107b463@squarespace.com
DTSTAMP:20200206T030734Z
DTSTART:20200224T150000Z
DTEND:20200406T000000Z
SUMMARY:They Are Us Art Exhibition
GEO:-37.579324;143.868571
LOCATION:Mecure Hotel Ballarat\,  Lounge Gallery\, 613 Main Road\, Golden P
 oint
END:VEVENT
END:VCALENDAR
