BEGIN:VCALENDAR
VERSION:2.0
PRODID:-//Squarespace Inc/Squarespace 6//v6//EN
BEGIN:VEVENT
UID:5e3b7d29aca13a4c2e385e99@squarespace.com
DTSTAMP:20200206T025915Z
DTSTART:20200227T230000Z
DTEND:20200228T030000Z
SUMMARY:They Are Us art exhibition official opening 
GEO:-37.579324;143.868571
LOCATION:Lounge Gallery\, Billy's Bar\, Mecure Hotel\, 613 Main Road\, Gold
 en Point\, VIC\, 3350\, Australia
END:VEVENT
END:VCALENDAR
