BEGIN:VCALENDAR
VERSION:2.0
PRODID:-//Squarespace Inc/Squarespace 6//v6//EN
BEGIN:VEVENT
UID:5e336702d8a10742c4a46671@squarespace.com
DTSTAMP:20200130T233312Z
DTSTART:20200131T000000Z
DTEND:20200131T010000Z
SUMMARY:Out of the Store: Valentine's Day
GEO:-37.560436;143.858291
LOCATION:Art Gallery of Ballarat\, 40 Lydiard Street North\, Ballarat Centr
 al\, VIC\, 3350\, Australia
END:VEVENT
END:VCALENDAR
