BEGIN:VCALENDAR
VERSION:2.0
PRODID:-//Squarespace Inc/Squarespace 6//v6//EN
BEGIN:VEVENT
UID:5e40d270e14ad269a828f290@squarespace.com
DTSTAMP:20200210T035214Z
DTSTART:20200215T000000Z
DTEND:20200215T020000Z
SUMMARY:VOX  - Valentine's Day Concert
GEO:42.1777;-71.539128
LOCATION:Trades Hall\, 24 Camp Street\, Ballarat
END:VEVENT
END:VCALENDAR
