BEGIN:VCALENDAR
VERSION:2.0
PRODID:-//Squarespace Inc/Squarespace 6//v6//EN
BEGIN:VEVENT
UID:5da3e8aa426f3c10ebfff656@squarespace.com
DTSTAMP:20191014T031836Z
DTSTART:20191108T010000Z
DTEND:20191108T040000Z
SUMMARY:Wandering Circus : Frolic Festival
END:VEVENT
END:VCALENDAR
