BEGIN:VCALENDAR
VERSION:2.0
PRODID:-//Squarespace Inc/Squarespace 6//v6//EN
BEGIN:VEVENT
UID:5da55bdf446cce1077693405@squarespace.com
DTSTAMP:20191015T054353Z
DTSTART:20191016T213000Z
DTEND:20191016T233000Z
SUMMARY:Weston Bate Memorial Lecture: Sovereign Hill
GEO:-37.573056;143.862247
LOCATION:Sovereign Hill\, Bradshaw Street\, Ballarat
END:VEVENT
END:VCALENDAR
