BEGIN:VCALENDAR
VERSION:2.0
PRODID:-//Squarespace Inc/Squarespace 6//v6//EN
BEGIN:VEVENT
UID:5d6dce7a426fc0000177c5d3@squarespace.com
DTSTAMP:20190918T235206Z
DTSTART:20190920T133000Z
DTEND:20190920T183000Z
SUMMARY:What is Design Thinking? Masterclass
END:VEVENT
END:VCALENDAR
