BEGIN:VCALENDAR
VERSION:2.0
PRODID:-//Squarespace Inc/Squarespace 6//v6//EN
BEGIN:VEVENT
UID:5cd4d360e2c483da26842211@squarespace.com
DTSTAMP:20190618T013052Z
DTSTART:20190630T013000Z
DTEND:20190722T023000Z
SUMMARY:Winter Festival Activated ArtWalk
END:VEVENT
END:VCALENDAR
