BEGIN:VCALENDAR
VERSION:2.0
PRODID:-//Squarespace Inc/Squarespace 6//v6//EN
BEGIN:VEVENT
UID:5cd4d5f9eb39311cf18a22fb@squarespace.com
DTSTAMP:20190611T004747Z
DTSTART:20190629T140000Z
DTEND:20190630T200000Z
SUMMARY:Winteractive Arcade
GEO:-37.561091;143.858167
LOCATION:Ballarat Mining Exchange\, 8 Lydiard St N\, Ballara Central\, Aust
 ralia
END:VEVENT
END:VCALENDAR
