BEGIN:VCALENDAR
VERSION:2.0
PRODID:-//Squarespace Inc/Squarespace 6//v6//EN
BEGIN:VEVENT
UID:5cd4d41de4966bf668dc836c@squarespace.com
DTSTAMP:20190708T070203Z
DTSTART:20190713T140000Z
DTEND:20190714T200000Z
SUMMARY:Winteractive Arcade
END:VEVENT
END:VCALENDAR
