BEGIN:VCALENDAR
VERSION:2.0
PRODID:-//Squarespace Inc/Squarespace 6//v6//EN
BEGIN:VEVENT
UID:5dd49a7b7ebdb24c83e48137@squarespace.com
DTSTAMP:20191120T014812Z
DTSTART:20191128T000000Z
DTEND:20191128T020000Z
SUMMARY:Mosaic Workshop
END:VEVENT
END:VCALENDAR
