BEGIN:VCALENDAR
VERSION:2.0
PRODID:-//Squarespace Inc/Squarespace 6//v6//EN
BEGIN:VEVENT
UID:5e2fc9d36357d510f5b146e9@squarespace.com
DTSTAMP:20200128T054703Z
DTSTART:20200223T010000Z
DTEND:20200223T030000Z
SUMMARY:Wondered - The perfect conclusion to a classic tale
GEO:-37.561025;143.859575
LOCATION:Ballarat Trades Hall\, 24 Camp St\, Ballarat
END:VEVENT
END:VCALENDAR
