BEGIN:VCALENDAR
VERSION:2.0
PRODID:-//Squarespace Inc/Squarespace 6//v6//EN
BEGIN:VEVENT
UID:5da660f23c7d414260138812@squarespace.com
DTSTAMP:20191106T040627Z
DTSTART:20191121T233000Z
DTEND:20191122T020000Z
SUMMARY:Words Out Loud Ballarat
GEO:-37.559806;143.858155
LOCATION:Printers Room\, Crn Mair amd Lydiard Streets\, Ballarat
END:VEVENT
END:VCALENDAR
