BEGIN:VCALENDAR
VERSION:2.0
PRODID:-//Squarespace Inc/Squarespace 6//v6//EN
BEGIN:VEVENT
UID:5e5da4ee80dd940e4b101123@squarespace.com
DTSTAMP:20200303T003406Z
DTSTART:20200319T223000Z
DTEND:20200320T013000Z
SUMMARY:Words Out Loud- March (Creswick)
GEO:-37.42438;143.89481
LOCATION:Odessa at Leaver's Hotel\, 80 Albert Street\, Creswick\, VIC\, 336
 3\, Australia
END:VEVENT
END:VCALENDAR
