BEGIN:VCALENDAR
VERSION:2.0
PRODID:-//Squarespace Inc/Squarespace 6//v6//EN
BEGIN:VEVENT
UID:5e1cf3bffcd74855a03dea87@squarespace.com
DTSTAMP:20200113T225333Z
DTSTART:20200123T233000Z
DTEND:20200124T020000Z
SUMMARY:Words Out Loud - January Edition
GEO:-37.559806;143.858155
LOCATION:The Printers Room\, Sebastians\, Cnr Mair & Lydiard St\, Ballarat
END:VEVENT
END:VCALENDAR
