BEGIN:VCALENDAR
VERSION:2.0
PRODID:-//Squarespace Inc/Squarespace 6//v6//EN
BEGIN:VEVENT
UID:5fd7e89562243e10b9e98481@squarespace.com
DTSTAMP:20201214T223818Z
DTSTART:20210123T220000Z
DTEND:20210124T010000Z
SUMMARY:Workshop: Contemporary Pastel Portraits with Samantha Thompson 
GEO:49.695586;-112.845136
LOCATION:Lethbridge
END:VEVENT
END:VCALENDAR
